BEGIN:VCALENDAR
VERSION:2.0
PRODID:-//Tukios.com/
BEGIN:VEVENT
UID:6f5b2b98-cc04-466f-b8e5-f6fbd448b789@www.dunnfuneralhomeandcremationservicesinc.com
DTSTAMP:20260421T235451Z
DTSTART:20260426T190000Z
DTEND:20260426T200000Z
SUMMARY:Memorial Service
DESCRIPTION:
URL:https://www.dunnfuneralhomeandcremationservicesinc.com/obituaries/camille-henderson-lane
LOCATION: 3030 Whitestocking Road  Burgaw NC 28425
GEO:34.5842364;-77.8311444
END:VEVENT
END:VCALENDAR